Workbook
Name Additional_Factor: 'אפשרויות בחירה'!$C$706:$C$854
Name Amoritization: 'אפשרויות בחירה'!$C$544:$C$548
Name Capsule: 'אפשרויות בחירה'!$C$934:$C$936
Name Company_Name: 'File Name Info'!$A$34:$A$130
Name Company_Name_ID: 'File Name Info'!$A$34:$B$130
Name Consortium: 'אפשרויות בחירה'!$C$512:$C$513
Name Country_list: 'אפשרויות בחירה'!$C$4:$C$85
Name Country_list_funds: 'אפשרויות בחירה'!$C$4:$C$103
Name CSA: 'אפשרויות בחירה'!$C$693:$C$694
Name Delivery: 'אפשרויות בחירה'!$C$670:$C$671
Name Dependence_Independence: 'אפשרויות בחירה'!$C$658:$C$659
Name Duration_Underlying_Interest_Rate: 'אפשרויות בחירה'!$C$685:$C$692
Name File_Type: 'File Name Info'!$A$10:$A$12
Name Full_File_Type: 'File Name Info'!$A$11:$B$13
Name Full_Type: 'File Name Info'!$A$2:$B$8
Name Full_Type_Nostro: 'File Name Info'!$A$3:$B$6
Name Full_Year: 'File Name Info'!$A$22:$B$31
Name Fund_Strategy: 'אפשרויות בחירה'!$C$595:$C$625
Name Fund_type: 'אפשרויות בחירה'!$C$326:$C$496
Name Holding_interest: 'אפשרויות בחירה'!$C$146:$C$147
Name In_the_books: 'אפשרויות בחירה'!$C$660:$C$661
Name Industry_Sector: 'אפשרויות בחירה'!#REF!
Name Industry_sector_all: 'אפשרויות בחירה'!$C$202:$C$325
Name Industry_sectors: 'אפשרויות בחירה'!$C$202:$C$325
Name israel_abroad: 'אפשרויות בחירה'!$C$2:$C$3
Name Issuer_Number_Banks: 'אפשרויות בחירה'!$C$111:$C$113
Name Issuer_Number_Fund: 'אפשרויות בחירה'!$C$114:$C$117
Name issuer_number_loan: 'אפשרויות בחירה'!$C$118:$C$126
Name Issuer_Number_Type: 'אפשרויות בחירה'!$C$104:$C$110
Name Issuer_Number_Type_2: 'אפשרויות בחירה'!#REF!
Name Issuer_Number_Type_3: 'אפשרויות בחירה'!#REF!
Name Issuer_Number_Type_V2: 'אפשרויות בחירה'!$C$104:$C$110
Name Issuer_Type_TFunds: 'אפשרויות בחירה'!#REF!
Name Leading_factor: 'אפשרויות בחירה'!$C$697:$C$705
Name Linked_Type: 'אפשרויות בחירה'!$C$514:$C$517
Name other_investments: 'אפשרויות בחירה'!$C$1018:$C$1051
Name Penalty: 'אפשרויות בחירה'!$C$855:$C$856
Name QTR: 'File Name Info'!$A$15:$A$19
Name Rating_Agency: 'אפשרויות בחירה'!$C$188:$C$201
Name real_estate_lifestage: 'אפשרויות בחירה'!$C$638:$C$646
Name real_estate_loans: 'אפשרויות בחירה'!$C$551:$C$589
Name Real_Estate_Main_Use: 'אפשרויות בחירה'!$C$626:$C$637
Name Recourse_Nonrecourse: 'אפשרויות בחירה'!$C$542:$C$543
Name Repayment_Rights: 'אפשרויות בחירה'!$C$549:$C$550
Name Reset_frequency: 'אפשרויות בחירה'!$C$662:$C$669
Name Security_ID_Number_Type: 'אפשרויות בחירה'!#REF!
Name Security_Number_Loans: 'אפשרויות בחירה'!$C$131
Name Stock_Exchange: 'אפשרויות בחירה'!#REF!
Name Stock_Exchange_Gov_Bonds: 'אפשרויות בחירה'!$C$148:$C$181
Name Subordination_Risk: 'אפשרויות בחירה'!$C$186:$C$187
Name Tradeable_Status: 'אפשרויות בחירה'!#REF!
Name Tradeable_Status_All: 'אפשרויות בחירה'!$C$135:$C$145
Name tradeable_status_bonds: 'אפשרויות בחירה'!#REF!
Name tradeable_status_funds: 'אפשרויות בחירה'!#REF!
Name tradeable_status_stock: 'אפשרויות בחירה'!#REF!
Name Tradeable_Status_v2: 'אפשרויות בחירה'!#REF!
Name tradeable_status_warrants: 'אפשרויות בחירה'!#REF!
Name tradeable_status_warrants_v2: 'אפשרויות בחירה'!#REF!
Name Transaction: 'אפשרויות בחירה'!$C$647:$C$650
Name Type: 'File Name Info'!$A$2:$A$8

Sheet עמוד פתיחה
A1: קובץ דיווח עבור רשימת נכסים ברמת הנכס הבודד (חוזר גופים מוסדיים 2015-9-14)
A3: יש לבחור תחום: | D3: נכסי עמיתים - קופות גמל
A5: האם מדובר בקובץ לממומנה או לציבור: | D5: לממונה
A7: יש לבחור את רבעון הדיווח: | D7: 02
A9: יש לבחור את שנת הדיווח: | D9: 2026
A11: יש לבחור את הגוף המוסדי: | D11: עמ"י - חברה לניהול קופות גמל ענפיות בע"מ
A13: ח.פ. הגוף המוסדי: | D13: =IFERROR(VLOOKUP(D11,'File Name Info'!A35:B130,2,0),"תא מחושב") -> 520042581
A15: שם קובץ לשמירה | D15: =IF(D5="לממונה",CONCATENATE(D13, "_",VLOOKUP(D3,Full_Type,2,0),"_",D7,VLOOKUP(D9,Full_Year,2,0),".xlxs"),IF(D5="לציבור",CONCATENATE(D13,"_",VLOOKUP(D3,Full_Type_Nostro,2,0),"_",VLOOKUP(D5,Full_File_Type,2,0),"_",D7,VLOOKUP(D9,Full_Year,2,0),".xlsx"),"שם קובץ לשמירה")) -> 520042581_gm_0226.xlxs
A17: פרטי האחראי על הדיווח בגוף המוסדי | B17: שם:
B19: מספר טלפון:
B21: כתובת מייל:
A23: הוראות למילוי הדיווח: | D23: יש לדווח לפי ההנחיות בחלק ג' לנספח 5.4.3.2 שבפרק 3 שבחלק 4 לשער 5 בחוזר המאוחד - "רשימת נכסים ברמת הנכס הבודד".

Sheet סכום נכסים
C1: ידווח בקבצי נכסי הנוסטרו בלבד
A2: אפיק | B2: שווי הוגן (באלפי ש"ח) | C2: עלות מופחתת (באלפי ש"ח) | D2: השיטה שיושמה בדוח הכספי | E2: שיעור מסך נכסי השקעה
A3: מזומנים ושווי מזומנים | B3: =SUM('מזומנים ושווי מזומנים'!O:O) -> 72418.415 | E3: =SUM('מזומנים ושווי מזומנים'!O:O)/B30 -> 0.03062238
A4: איגרות חוב ממשלתיות | B4: =SUM('איגרות חוב ממשלתיות'!U:U) -> 491225.88 | E4: =SUM('איגרות חוב ממשלתיות'!U:U)/B30 -> 0.20771658
A5: ניירות ערך מסחריים | B5: =SUM('ניירות ערך מסחריים'!AD:AD) -> 0 | E5: =SUM('ניירות ערך מסחריים'!AD:AD)/B30 -> 0
A6: איגרות חוב | B6: =SUM('איגרות חוב'!AD:AD) -> 408737.37 | E6: =SUM('איגרות חוב'!AD:AD)/B30 -> 0.17283603
A7: מניות מבכ ויהש | B7: =SUM('מניות מבכ ויהש'!U:U) -> 467528.04 | E7: =SUM('מניות מבכ ויהש'!U:U)/B30 -> 0.19769587
A8: קרנות סל | B8: =SUM('קרנות סל'!T:T) -> 580306.85 | E8: =SUM('קרנות סל'!T:T)/B30 -> 0.24538478
A9: קרנות נאמנות | B9: =SUM('קרנות נאמנות'!T:T) -> 34765.154 | E9: =SUM('קרנות נאמנות'!T:T)/B30 -> 0.014700567
A10: כתבי אופציה | B10: =SUM('כתבי אופציה'!W:W) -> 15.587 | E10: =SUM('כתבי אופציה'!W:W)/B30 -> 6.5910174e-06
A11: אופציות | B11: =SUM(אופציות!V:V) -> 0 | E11: =SUM(אופציות!V:V)/B30 -> 0
A12: חוזים עתידיים | B12: =SUM('חוזים עתידיים'!R:R) -> 801.782 | E12: =SUM('חוזים עתידיים'!R:R)/B30 -> 0.00033903632
A13: מוצרים מובנים | B13: =SUM('מוצרים מובנים'!Z:Z) -> 1488.65 | E13: =SUM('מוצרים מובנים'!Z:Z)/B30 -> 0.00062948086
A14: לא סחיר איגרות חוב ממשלתיות | B14: =SUM('לא סחיר איגרות חוב ממשלתיות'!U:U) -> 0 | E14: =SUM('לא סחיר איגרות חוב ממשלתיות'!U:U)/B30 -> 0
A15: לא סחיר איגרות חוב מיועדות | B15: =SUM('לא סחיר איגרות חוב מיועדות'!N:N) -> 0 | E15: =SUM('לא סחיר איגרות חוב מיועדות'!N:N)/B30 -> 0
A16: אפיק השקעה מובטח תשואה | B16: =SUM('אפיק השקעה מובטח תשואה'!F:F) -> 0 | E16: =SUM('אפיק השקעה מובטח תשואה'!F:F)/B30 -> 0
A17: לא סחיר ניירות ערך מסחריים | B17: =SUM('לא סחיר ניירות ערך מסחריים'!AI:AI) -> 0 | E17: =SUM('לא סחיר ניירות ערך מסחריים'!AI:AI)/B30 -> 0
A18: לא סחיר איגרות חוב | B18: =SUM('לא סחיר איגרות חוב'!AG:AG) -> 15875.799 | E18: =SUM('לא סחיר איגרות חוב'!AG:AG)/B30 -> 0.0067131371
A19: לא סחיר מניות מבכ ויהש | B19: =SUM('לא סחיר מניות מבכ ויהש'!X:X) -> 1496.862 | E19: =SUM('לא סחיר מניות מבכ ויהש'!X:X)/B30 -> 0.00063295333
A20: קרנות השקעה | B20: =SUM('קרנות השקעה'!W:W) -> 257637 | E20: =SUM('קרנות השקעה'!W:W)/B30 -> 0.10894271
A21: לא סחיר כתבי אופציה | B21: =SUM('לא סחיר כתבי אופציה'!Z:Z) -> 0 | E21: =SUM('לא סחיר כתבי אופציה'!Z:Z)/B30 -> 0
A22: לא סחיר אופציות | B22: =SUM('לא סחיר אופציות'!Z:Z) -> 0 | E22: =SUM('לא סחיר אופציות'!Z:Z)/B30 -> 0
A23: לא סחיר נגזרים אחרים | B23: =SUM('לא סחיר נגזרים אחרים'!R:R) -> 3002.4546 | E23: =SUM('לא סחיר נגזרים אחרים'!R:R)/B30 -> 0.0012695984
A24: הלוואות | B24: =SUM(הלוואות!AT:AT) -> 29886.966 | E24: =SUM(הלוואות!AT:AT)/B30 -> 0.012637808
A25: לא סחיר מוצרים מובנים | B25: =SUM('לא סחיר מוצרים מובנים'!AB:AB) -> 0 | E25: =SUM('לא סחיר מוצרים מובנים'!AE:AE)/B30 -> 0
A26: פיקדונות מעל 3 חודשים | B26: =SUM('פיקדונות מעל 3 חודשים'!T:T) -> 0 | E26: =SUM('פיקדונות מעל 3 חודשים'!T:T)/B30 -> 0
A27: זכויות מקרקעין | B27: =SUM('זכויות מקרקעין'!S:S) -> 567.504 | E27: =SUM('זכויות מקרקעין'!S:S)/B30 -> 0.00023997105
A28: השקעה בחברות מוחזקות | B28: =SUM('השקעה בחברות מוחזקות'!U:U) -> 0 | E28: =SUM('השקעה בחברות מוחזקות'!U:U)/B30 -> 0
A29: נכסים אחרים | B29: =SUM('נכסים אחרים'!N:N) -> -869.051 | E29: =SUM('נכסים אחרים'!N:N)/B30 -> -0.00036748125
A30: סך הכל נכסים | B30: =IF(SUM(B3:B29)=0,0.0001,SUM(B3:B29)) -> 2364885.3 | C30: =SUM(C3:C29) -> 0 | D30: =SUM(D3:D29) -> 0 | E30: =SUM(E3:E29) -> 1
A31: מסגרות אשראי
A32: יתרות התחייבות להשקעה | B32: =SUM('יתרות התחייבות להשקעה'!O:O) -> 88034.334 | E32: =SUM('יתרות התחייבות להשקעה'!O:O) -> 88034.334

Sheet מזומנים ושווי מזומנים
A1: מספר קופה/קרן/ח.פ. עבור חברת ביטוח | B1: מספר מסלול | C1: שם הבנק | D1: מספר מזהה בנק | E1: סוג מספר מזהה בנק | F1: מאפיין עיקרי | G1: ישראל/חו"ל | H1: בעל עניין/צד קשור | I1: דירוג הבנק | J1: שם מדרג | K1: מטבע פעילות | L1: שווי מטבעי | M1: שער חליפין | N1: שיעור ריבית | O1: שווי הוגן (באלפי ש"ח) | P1: שיעור מנכסי אפיק ההשקעה | Q1: שיעור מסך נכסי ההשקעה
A2: 14076 | B2: 14077 | C2: בנק לאומי לישראל בע"מ | D2: 10-800 | E2: סימול בנק | F2: מזומן ועו"ש נקוב במט"ח | G2: ישראל | H2: לא | I2: AAA | J2: S&P מעלות | K2: USD | L2: 0.688 | M2: 2.978 | N2: 0 | O2: 2.048 | P2: 0.0018096391 | Q2: 6.0396279e-05
A3: 14076 | B3: 14077 | C3: בנק לאומי לישראל בע"מ | D3: 10-800 | E3: סימול בנק | F3: מזומן ועו"ש נקוב במט"ח | G3: ישראל | H3: לא | I3: AAA | J3: S&P מעלות | K3: EUR | L3: 13.718 | M3: 3.3945 | N3: 0 | O3: 46.567 | P3: 0.041139302 | Q3: 0.0013730145
A4: 14076 | B4: 14077 | C4: בנק לאומי לישראל בע"מ | D4: 10-800 | E4: סימול בנק | F4: מזומן ועו"ש בש"ח | G4: ישראל | H4: לא | I4: AAA | J4: S&P מעלות | K4: ILS | L4: 1083.316 | M4: 1 | N4: 0.0305 | O4: 1083.316 | P4: 0.95705106 | Q4: 0.031941353
A5: 14076 | B5: 14078 | C5: בנק לאומי לישראל בע"מ | D5: 10-800 | E5: סימול בנק | F5: מזומן ועו"ש בש"ח | G5: ישראל | H5: לא | I5: AAA | J5: S&P מעלות | K5: ILS | L5: 117.807 | M5: 1 | N5: 0.0305 | O5: 117.807 | P5: 1 | Q5: 0.028621716
A6: 14076 | B6: 14079 | C6: בנק לאומי לישראל בע"מ | D6: 10-800 | E6: סימול בנק | F6: מזומן ועו"ש נקוב במט"ח | G6: ישראל | H6: לא | I6: AAA | J6: S&P מעלות | K6: USD | L6: 0.866 | M6: 2.978 | N6: 0 | O6: 2.578 | P6: 0.0048945028 | Q6: 0.00014345526
A7: 14076 | B7: 14079 | C7: בנק לאומי לישראל בע"מ | D7: 10-800 | E7: סימול בנק | F7: מזומן ועו"ש נקוב במט"ח | G7: ישראל | H7: לא | I7: AAA | J7: S&P מעלות | K7: EUR | L7: 11.05 | M7: 3.3945 | N7: 0 | O7: 37.51 | P7: 0.071212449 | Q7: 0.0020871988
A8: 14076 | B8: 14079 | C8: בנק לאומי לישראל בע"מ | D8: 10-800 | E8: סימול בנק | F8: מזומן ועו"ש בש"ח | G8: ישראל | H8: לא | I8: AAA | J8: S&P מעלות | K8: ILS | L8: 486.648 | M8: 1 | N8: 0.0305 | O8: 486.648 | P8: 0.92389305 | Q8: 0.027078811
A9: 14076 | B9: 15394 | C9: בנק לאומי לישראל בע"מ | D9: 10-800 | E9: סימול בנק | F9: מזומן ועו"ש בש"ח | G9: ישראל | H9: לא | I9: AAA | J9: S&P מעלות | K9: ILS | L9: 22.682 | M9: 1 | N9: 0.0305 | O9: 22.682 | P9: 0.99999956 | Q9: 0.003735961
A10: 14076 | B10: 15394 | C10: בנק לאומי לישראל בע"מ | D10: 10-800 | E10: סימול בנק | F10: מזומן ועו"ש בש"ח | G10: ישראל | H10: לא | I10: AAA | J10: S&P מעלות | K10: ILS | L10: 0 | M10: 1 | N10: 0 | O10: 0 | P10: 4.408689e-07 | Q10: 1.6470698e-09
A11: 161 | B11: 1434 | C11: בנק לאומי לישראל בע"מ | D11: 10-800 | E11: סימול בנק | F11: מזומן ועו"ש נקוב במט"ח | G11: ישראל | H11: לא | I11: AAA | J11: S&P מעלות | K11: USD | L11: 55.249 | M11: 2.978 | N11: 0 | O11: 164.53 | P11: 0.24688076 | Q11: 0.0069782506
A12: 161 | B12: 1434 | C12: בנק לאומי לישראל בע"מ | D12: 10-800 | E12: סימול בנק | F12: מזומן ועו"ש נקוב במט"ח | G12: ישראל | H12: לא | I12: AAA | J12: S&P מעלות | K12: EUR | L12: 12.358 | M12: 3.3945 | N12: 0 | O12: 41.949 | P12: 0.062944992 | Q12: 0.0017791825
A13: 161 | B13: 1434 | C13: בנק לאומי לישראל בע"מ | D13: 10-800 | E13: סימול בנק | F13: מזומן ועו"ש בש"ח | G13: ישראל | H13: לא | I13: AAA | J13: S&P מעלות | K13: ILS | L13: 459.957 | M13: 1 | N13: 0.0305 | O13: 459.957 | P13: 0.69017425 | Q13: 0.019508239
... A56: 161 | B56: 15391 | C56: בנק לאומי לישראל בע"מ | D56: 10-800 | E56: סימול בנק | F56: מזומן ועו"ש בש"ח | G56: ישראל | H56: לא | I56: AAA | J56: S&P מעלות | K56: ILS | L56: 0 | M56: 1 | N56: 0 | O56: 0 | P56: 1.9477884e-07 | Q56: 7.6523491e-10

Sheet איגרות חוב ממשלתיות
A1: מספר קופה/קרן/ח.פ. עבור חברת ביטוח | B1: מספר מסלול | C1: שם מנפיק | D1: שם נייר ערך | E1: מספר נייר ערך | F1: מאפיין עיקרי | G1: ישראל/חו"ל | H1: מדינה לפי חשיפה כלכלית | I1: זירת מסחר | J1: דירוג | K1: שם מדרג | L1: מטבע פעילות | M1: מח"מ | N1: מועד פדיון | O1: שיעור ריבית | P1: תשואה לפדיון | Q1: סכום לקבל (במטבע הפעילות) | R1: ערך נקוב (יחידות) | S1: שער חליפין | T1: שער נייר הערך | U1: שווי הוגן (באלפי ש"ח) | V1: עלות מופחתת (באלפי ש"ח) | W1: השיטה שיושמה בדוח הכספי | X1: שיעור מערך נקוב מונפק | Y1: שיעור מנכסי אפיק ההשקעה | Z1: שיעור מסך נכסי ההשקעה
A2: 14076 | B2: 14077 | C2: מדינת ישראל | D2: ממשל צמודה 1131 | E2: IL0011722209 | F2: צמוד למדד המחירים לצרכן בריבית קבועה | G2: ישראל | H2: ישראל | I2: TASE | J2: RF | K2: פנימי | L2: ILS | M2: 5.401 | N2: 30/11/2031 | O2: 0.001 | P2: 0.01653 | R2: 1468803 | S2: 1 | T2: 109.97 | U2: 1615.243 | W2: שווי הוגן | X2: 4.3e-05 | Y2: 0.22430154 | Z2: 0.047625093
A3: 14076 | B3: 14077 | C3: מדינת ישראל | D3: ממשל שקלית 0335 | E3: IL0012023326 | F3: לא צמוד למדד המחירים לצרכן ריבית קבועה | G3: ישראל | H3: ישראל | I3: TASE | J3: RF | K3: פנימי | L3: ILS | M3: 7.499 | N3: 30/03/2035 | O3: 0.04 | P3: 0.0365 | R3: 300000 | S3: 1 | T3: 103.59 | U3: 310.77 | W3: שווי הוגן | X3: 8e-06 | Y3: 0.043155243 | Z3: 0.0091629887
A4: 14076 | B4: 14077 | C4: מדינת ישראל | D4: ממשל שקלית 0347 | E4: IL0011401937 | F4: לא צמוד למדד המחירים לצרכן ריבית קבועה | G4: ישראל | H4: ישראל | I4: TASE | J4: RF | K4: פנימי | L4: ILS | M4: 14.459 | N4: 31/03/2047 | O4: 0.0375 | P4: 0.04131 | R4: 645000 | S4: 1 | T4: 95.7 | U4: 617.265 | W4: שווי הוגן | X4: 2.3e-05 | Y4: 0.085716837 | Z4: 0.01819993
A5: 14076 | B5: 14077 | C5: מדינת ישראל | D5: ממשלתי שקלית 0142 | E5: IL0011254005 | F5: לא צמוד למדד המחירים לצרכן ריבית קבועה | G5: ישראל | H5: ישראל | I5: TASE | J5: RF | K5: פנימי | L5: ILS | M5: 11.060 | N5: 31/01/2042 | O5: 0.055 | P5: 0.03945 | R5: 822000 | S5: 1 | T5: 120.13 | U5: 987.469 | W5: שווי הוגן | X5: 2.2e-05 | Y5: 0.13712536 | Z5: 0.029115306
A6: 14076 | B6: 14077 | C6: מדינת ישראל | D6: ממשלתית צמודה 0.5% 0529 | E6: IL0011570236 | F6: צמוד למדד המחירים לצרכן בריבית קבועה | G6: ישראל | H6: ישראל | I6: TASE | J6: RF | K6: פנימי | L6: ILS | M6: 2.900 | N6: 31/05/2029 | O6: 0.005 | P6: 0.01631 | R6: 1307155 | S6: 1 | T6: 115.67 | U6: 1511.986 | W6: שווי הוגן | X6: 3.9e-05 | Y6: 0.20996278 | Z6: 0.044580598
A7: 14076 | B7: 14077 | C7: מדינת ישראל | D7: ממשלתית צמודה 1.10% 1028 | E7: IL0011973265 | F7: צמוד למדד המחירים לצרכן בריבית קבועה | G7: ישראל | H7: ישראל | I7: TASE | J7: RF | K7: פנימי | L7: ILS | M7: 2.301 | N7: 31/10/2028 | O7: 0.011 | P7: 0.01683 | R7: 580000 | S7: 1 | T7: 107.38 | U7: 622.804 | W7: שווי הוגן | X7: 1.7e-05 | Y7: 0.086486013 | Z7: 0.018363246
A8: 14076 | B8: 14077 | C8: מדינת ישראל | D8: ממשלתית שקלית 1.00% 03/30 | E8: IL0011609851 | F8: לא צמוד למדד המחירים לצרכן ריבית קבועה | G8: ישראל | H8: ישראל | I8: TASE | J8: RF | K8: פנימי | L8: ILS | M8: 3.686 | N8: 31/03/2030 | O8: 0.01 | P8: 0.0336 | R8: 170000 | S8: 1 | T8: 92.07 | U8: 156.519 | W8: שווי הוגן | X8: 5e-06 | Y8: 0.021735095 | Z8: 0.0046149301
A9: 14076 | B9: 14077 | C9: מדינת ישראל | D9: ממשלתית שקלית 1.3% 04/32 | E9: IL0011806606 | F9: לא צמוד למדד המחירים לצרכן ריבית קבועה | G9: ישראל | H9: ישראל | I9: TASE | J9: RF | K9: פנימי | L9: ILS | M9: 5.629 | N9: 30/04/2032 | O9: 0.013 | P9: 0.0347 | R9: 1550658 | S9: 1 | T9: 88.94 | U9: 1379.155 | W9: שווי הוגן | X9: 3.8e-05 | Y9: 0.19151713 | Z9: 0.040664104
A10: 14076 | B10: 14078 | C10: מדינת ישראל | D10: ממשל שקלית 0335 | E10: IL0012023326 | F10: לא צמוד למדד המחירים לצרכן ריבית קבועה | G10: ישראל | H10: ישראל | I10: TASE | J10: RF | K10: פנימי | L10: ILS | M10: 7.499 | N10: 30/03/2035 | O10: 0.04 | P10: 0.0365 | R10: 183161 | S10: 1 | T10: 103.59 | U10: 189.736 | W10: שווי הוגן | X10: 5e-06 | Y10: 0.14502629 | Z10: 0.04609717
A11: 14076 | B11: 14078 | C11: מדינת ישראל | D11: ממשלתית צמודה 0.5% 0529 | E11: IL0011570236 | F11: צמוד למדד המחירים לצרכן בריבית קבועה | G11: ישראל | H11: ישראל | I11: TASE | J11: RF | K11: פנימי | L11: ILS | M11: 2.900 | N11: 31/05/2029 | O11: 0.005 | P11: 0.01631 | R11: 248738 | S11: 1 | T11: 115.67 | U11: 287.715 | W11: שווי הוגן | X11: 8e-06 | Y11: 0.21991698 | Z11: 0.069901469
A12: 14076 | B12: 14078 | C12: מדינת ישראל | D12: ממשלתית צמודה 1.10% 1028 | E12: IL0011973265 | F12: צמוד למדד המחירים לצרכן בריבית קבועה | G12: ישראל | H12: ישראל | I12: TASE | J12: RF | K12: פנימי | L12: ILS | M12: 2.301 | N12: 31/10/2028 | O12: 0.011 | P12: 0.01683 | R12: 206329 | S12: 1 | T12: 107.38 | U12: 221.556 | W12: שווי הוגן | X12: 6e-06 | Y12: 0.1693478 | Z12: 0.053827858
A13: 14076 | B13: 14078 | C13: מדינת ישראל | D13: ממשלתית צמודה 1.6% 1033 | E13: IL0012043795 | F13: צמוד למדד המחירים לצרכן בריבית קבועה | G13: ישראל | H13: ישראל | I13: TASE | J13: RF | K13: פנימי | L13: ILS | M13: 6.905 | N13: 31/10/2033 | O13: 0.016 | P13: 0.01802 | R13: 229124 | S13: 1 | T13: 106.86 | U13: 244.842 | W13: שווי הוגן | X13: 7e-06 | Y13: 0.18714647 | Z13: 0.059485235
... A99: 161 | B99: 12468 | C99: US GOV | D99: B 06/10/2027 | E99: US912797VF19 | F99: נקוב במט"ח | G99: חו"ל | H99: ארה"ב | I99: FOREIGN_GOV_SEC | J99: Aa1 | K99: Moodys | L99: USD | M99: 0.944 | N99: 10/06/2027 | O99: 0 | P99: 0.03967 | R99: 360000 | S99: 2.978 | T99: 96.36 | U99: 1033.052 | W99: שווי הוגן | X99: 7e-06 | Y99: 0.12107157 | Z99: 0.02457635

Sheet ניירות ערך מסחריים
A1: מספר קופה/קרן/ח.פ. עבור חברת ביטוח | B1: מספר מסלול | C1: שם מנפיק | D1: מספר מנפיק | E1: סוג מספר מזהה מנפיק | F1: שם נייר ערך | G1: מספר נייר ערך | H1: סוג מספר נייר ערך | I1: מאפיין עיקרי | J1: ישראל/חו"ל | K1: מדינה לפי חשיפה כלכלית | L1: זירת מסחר | M1: ענף מסחר | N1: בעל עניין/צד קשור | O1: דירוג | P1: שם מדרג | Q1: דירוג נייר הערך/המנפיק | R1: מטבע פעילות | S1: מח"מ | T1: ריבית עוגן | U1: מועד פדיון | V1: שיעור ריבית | W1: תשואה לפדיון | X1: נחיתות חוזית | Y1: האם סווג כחוב בעייתי | Z1: ערך נקוב (יחידות) | AA1: שער חליפין | AB1: שער נייר הערך | AC1: סכום לקבל (במטבע הפעילות) | AD1: שווי הוגן (באלפי ש"ח) | AE1: עלות מופחתת (באלפי ש"ח) | AF1: עלות מופחתת (במטבע הפעילות) | AG1: השיטה שיושמה בדוח הכספי | AH1: שיעור מערך נקוב מונפק | AI1: שיעור מנכסי אפיק ההשקעה | AJ1: שיעור מסך נכסי ההשקעה

Sheet איגרות חוב
A1: מספר קופה/קרן/ח.פ. עבור חברת ביטוח | B1: מספר מסלול | C1: שם מנפיק | D1: מספר מנפיק | E1: סוג מספר מזהה מנפיק | F1: שם נייר ערך | G1: מספר נייר ערך | H1: סוג מספר נייר ערך | I1: מאפיין עיקרי | J1: ישראל/חו"ל | K1: מדינה לפי חשיפה כלכלית | L1: סטאטוס סחירות | M1: זירת מסחר | N1: ענף מסחר | O1: בעל עניין/צד קשור | P1: דירוג | Q1: שם מדרג | R1: דירוג נייר הערך/המנפיק | S1: מטבע פעילות | T1: מח"מ | U1: מועד פדיון | V1: שיעור ריבית | W1: תשואה לפדיון | X1: נחיתות חוזית | Y1: האם סווג כחוב בעייתי | Z1: ערך נקוב (יחידות) | AA1: שער חליפין | AB1: שער נייר הערך | AC1: סכום לקבל (במטבע הפעילות) | AD1: שווי הוגן (באלפי ש"ח) | AE1: עלות מופחתת (באלפי ש"ח) | AF1: עלות מופחתת (במטבע הפעילות) | AG1: השיטה שיושמה בדוח הכספי | AH1: שיעור מערך נקוב מונפק | AI1: שיעור מנכסי אפיק ההשקעה | AJ1: שיעור מסך נכסי ההשקעה
A2: 161 | B2: 1434 | C2: איי.די.איי. הנפקות (2010) בע"מ | D2: 514486042 | E2: ח.פ. | F2: איידיאיי הנ הת ז | G2: IL0012293507 | H2: ISIN | I2: לא צמוד למדד המחירים לצרכן | J2: ישראל | K2: ישראל | L2: סחיר | M2: TASE | N2: ביטוח | O2: לא | P2: A2 | Q2: מידרוג Moodys | R2: נייר ערך | S2: ILS | T2: 5.369 | U2: 22/09/2035 | V2: 0.0513 | W2: 0.04094 | X2: החוב לא נחות | Y2: לא | Z2: 60000 | AA2: 1 | AB2: 107.26 | AD2: 64.356 | AG2: שווי הוגן | AH2: 0.000176 | AI2: 0.0095715274 | AJ2: 0.002729544
A3: 161 | B3: 1434 | C3: איירפורט סיטי בע"מ | D3: 511659401 | E3: ח.פ. | F3: איירפורט אגח ה | G3: IL0011334872 | H3: ISIN | I3: צמוד למדד המחירים לצרכן | J3: ישראל | K3: ישראל | L3: סחיר | M3: TASE | N3: נדל"ן מניב בישראל | O3: לא | P3: AA | Q3: S&P מעלות | R3: נייר ערך | S3: ILS | T3: 1.630 | U3: 28/02/2029 | V3: 0.0234 | W3: 0.02438 | X3: החוב לא נחות | Y3: לא | Z3: 54563.69 | AA3: 1 | AB3: 119.82 | AD3: 65.378 | AG3: שווי הוגן | AH3: 4.7e-05 | AI3: 0.009723559 | AJ3: 0.0027728994
A4: 161 | B4: 1434 | C4: איירפורט סיטי בע"מ | D4: 511659401 | E4: ח.פ. | F4: איירפורט אגח י | G4: IL0011959819 | H4: ISIN | I4: לא צמוד למדד המחירים לצרכן | J4: ישראל | K4: ישראל | L4: סחיר | M4: TASE | N4: נדל"ן מניב בישראל | O4: לא | P4: AA | Q4: S&P מעלות | R4: נייר ערך | S4: ILS | T4: 1.750 | U4: 30/04/2029 | V4: 0.05 | W4: 0.03822 | X4: החוב לא נחות | Y4: לא | Z4: 68035.72 | AA4: 1 | AB4: 102.96 | AD4: 70.05 | AG4: שווי הוגן | AH4: 0.000161 | AI4: 0.010418321 | AJ4: 0.0029710269
A5: 161 | B5: 1434 | C5: אלבר שירותי מימונית בע"מ | D5: 512025891 | E5: ח.פ. | F5: אלבר אגח כ | G5: IL0011918328 | H5: ISIN | I5: לא צמוד למדד המחירים לצרכן | J5: ישראל | K5: ישראל | L5: סחיר | M5: TASE | N5: שרותים | O5: לא | P5: A+ | Q5: S&P מעלות | R5: נייר ערך | S5: ILS | T5: 1.063 | U5: 20/06/2028 | V5: 0.057 | W5: 0.042 | X5: החוב לא נחות | Y5: לא | Z5: 9200 | AA5: 1 | AB5: 101.83 | AD5: 9.368 | AG5: שווי הוגן | AH5: 1.8e-05 | AI5: 0.0013933357 | AJ5: 0.00039734215
A6: 161 | B6: 1434 | C6: אלוני-חץ נכסים והשקעות בע"מ | D6: 520038506 | E6: ח.פ. | F6: אלוני חץ אגח טו | G6: IL0011894149 | H6: ISIN | I6: צמוד למדד המחירים לצרכן | J6: ישראל | K6: ישראל | L6: סחיר | M6: TASE | N6: נדל"ן מניב בישראל | O6: לא | P6: AA- | Q6: S&P מעלות | R6: נייר ערך | S6: ILS | T6: 5.634 | U6: 27/02/2037 | V6: 0.0256 | W6: 0.0269 | X6: החוב לא נחות | Y6: לא | Z6: 45000 | AA6: 1 | AB6: 111.44 | AD6: 50.148 | AG6: שווי הוגן | AH6: 4.3e-05 | AI6: 0.0074584026 | AJ6: 0.0021269373
A7: 161 | B7: 1434 | C7: אלוני-חץ נכסים והשקעות בע"מ | D7: 520038506 | E7: ח.פ. | F7: אלוני חץ אגח יב | G7: IL0039004952 | H7: ISIN | I7: לא צמוד למדד המחירים לצרכן | J7: ישראל | K7: ישראל | L7: סחיר | M7: TASE | N7: נדל"ן מניב בישראל | O7: לא | P7: AA- | Q7: S&P מעלות | R7: נייר ערך | S7: ILS | T7: 2.795 | U7: 28/02/2031 | V7: 0.0241 | W7: 0.03944 | X7: החוב לא נחות | Y7: לא | Z7: 80000 | AA7: 1 | AB7: 96.69 | AD7: 77.352 | AG7: שווי הוגן | AH7: 3.9e-05 | AI7: 0.011504394 | AJ7: 0.003280746
A8: 161 | B8: 1434 | C8: אלקטרה בע"מ | D8: 520028911 | E8: ח.פ. | F8: אלקטרה אגח ה | G8: IL0073902228 | H8: ISIN | I8: לא צמוד למדד המחירים לצרכן | J8: ישראל | K8: ישראל | L8: סחיר | M8: TASE | N8: השקעה ואחזקות | O8: לא | P8: A+ | Q8: S&P מעלות | R8: נייר ערך | S8: ILS | T8: 2.349 | U8: 10/01/2031 | V8: 0.04 | W8: 0.04014 | X8: החוב לא נחות | Y8: לא | Z8: 35714.3 | AA8: 1 | AB8: 101.95 | AD8: 36.411 | AG8: שווי הוגן | AH8: 7.4e-05 | AI8: 0.0054152882 | AJ8: 0.0015442956
A9: 161 | B9: 1434 | C9: אמות השקעות בע"מ | D9: 520026683 | E9: ח.פ. | F9: אמות אגח ו | G9: IL0011586091 | H9: ISIN | I9: צמוד למדד המחירים לצרכן | J9: ישראל | K9: ישראל | L9: סחיר | M9: TASE | N9: נדל"ן מניב בישראל | O9: לא | P9: AA | Q9: S&P מעלות | R9: נייר ערך | S9: ILS | T9: 1.883 | U9: 03/10/2029 | V9: 0.0114 | W9: 0.02376 | X9: החוב לא נחות | Y9: לא | Z9: 98100 | AA9: 1 | AB9: 115.86 | AD9: 113.659 | AG9: שווי הוגן | AH9: 4.6e-05 | AI9: 0.016904204 | AJ9: 0.0048206277
A10: 161 | B10: 1434 | C10: אמות השקעות בע"מ | D10: 520026683 | E10: ח.פ. | F10: אמות אגח ז | G10: IL0011628661 | H10: ISIN | I10: לא צמוד למדד המחירים לצרכן | J10: ישראל | K10: ישראל | L10: סחיר | M10: TASE | N10: נדל"ן מניב בישראל | O10: לא | P10: AA | Q10: S&P מעלות | R10: נייר ערך | S10: ILS | T10: 3.795 | U10: 05/01/2032 | V10: 0.0244 | W10: 0.03931 | X10: החוב לא נחות | Y10: לא | Z10: 160000 | AA10: 1 | AB10: 95.76 | AD10: 153.216 | AG10: שווי הוגן | AH10: 0.000132 | AI10: 0.022787481 | AJ10: 0.0064983812
A11: 161 | B11: 1434 | C11: אמות השקעות בע"מ | D11: 520026683 | E11: ח.פ. | F11: אמות אגח ח | G11: IL0011727828 | H11: ISIN | I11: צמוד למדד המחירים לצרכן | J11: ישראל | K11: ישראל | L11: סחיר | M11: TASE | N11: נדל"ן מניב בישראל | O11: לא | P11: AA | Q11: S&P מעלות | R11: נייר ערך | S11: ILS | T11: 3.919 | U11: 05/01/2032 | V11: 0.0092 | W11: 0.02402 | X11: החוב לא נחות | Y11: לא | Z11: 70000 | AA11: 1 | AB11: 113.4 | AD11: 79.38 | AG11: שווי הוגן | AH11: 2.7e-05 | AI11: 0.011806014 | AJ11: 0.00336676
A12: 161 | B12: 1434 | C12: אנלייט אנרגיה מתחדשת בע"מ | D12: 520041146 | E12: ח.פ. | F12: אנלייט אנר אגח ו | G12: IL0072001733 | H12: ISIN | I12: לא צמוד למדד המחירים לצרכן | J12: ישראל | K12: ארה"ב | L12: סחיר | M12: TASE | N12: אנרגיה מתחדשת | O12: לא | P12: A | Q12: S&P מעלות | R12: נייר ערך | S12: ILS | T12: 0.167 | U12: 01/09/2026 | V12: 0.0345 | W12: 0.0518 | X12: החוב לא נחות | Y12: לא | Z12: 77490.19 | AA12: 1 | AB12: 100.87 | AD12: 78.164 | AG12: שווי הוגן | AH12: 0.000139 | AI12: 0.011625214 | AJ12: 0.0033152006
A13: 161 | B13: 1434 | C13: אנלייט אנרגיה מתחדשת בע"מ | D13: 520041146 | E13: ח.פ. | F13: אנלייט אנרגיה אגח ד | G13: IL0072002566 | H13: ISIN | I13: לא צמוד למדד המחירים לצרכן | J13: ישראל | K13: ארה"ב | L13: סחיר | M13: TASE | N13: אנרגיה מתחדשת | O13: לא | P13: A | Q13: S&P מעלות | R13: נייר ערך | S13: ILS | T13: 2.100 | U13: 02/09/2029 | V13: 0.015 | W13: 0.04078 | X13: החוב לא נחות | Y13: לא | Z13: 26000 | AA13: 1 | AB13: 95.32 | AD13: 24.783 | AG13: שווי הוגן | AH13: 2.2e-05 | AI13: 0.0036859512 | AJ13: 0.0010511349
... A56: 161 | B56: 1434 | C56: מזרחי טפחות חברה להנפקות בע"מ | D56: 520032046 | E56: ח.פ. | F56: מז טפ הנפ אגח61 | G56: IL0023104644 | H56: ISIN | I56: צמוד למדד המחירים לצרכן | J56: ישראל | K56: ישראל | L56: סחיר | M56: TASE | N56: בנקים | O56: לא | P56: Aaa | Q56: מידרוג Moodys | R56: נייר ערך | S56: ILS | T56: 0.425 | U56: 04/12/2026 | V56: 0.005 | W56: 0.0295 | X56: החוב לא נחות | Y56: לא | Z56: 39000 | AA56: 1 | AB56: 117.27 | AD56: 45.735 | AG56: שווי הוגן | AH56: 5.1e-05 | AI56: 0.0068021114 | AJ56: 0.0019397805
A57: 161 | B57: 1434 | C57: מזרחי טפחות חברה להנפקות בע"מ | D57: 520032046 | E57: ח.פ. | F57: מז טפ הנפק 52 | G57: IL0023103810 | H57: ISIN | I57: צמוד למדד המחירים לצרכן | J57: ישראל | K57: ישראל | L57: סחיר | M57: TASE | N57: בנקים | O57: לא | P57: AAA | Q57: S&P מעלות | R57: נייר ערך | S57: ILS | T57: 3.987 | U57: 01/07/2030 | V57: 0.002 | W57: 0.02224 | X57: החוב לא נחות | Y57: לא | Z57: 356000 | AA57: 1 | AB57: 110.28 | AC57: 0.85 | AD57: 393.447 | AG57: שווי הוגן | AH57: 0.000103 | AI57: 0.058516539 | AJ57: 0.016687354
A58: 161 | B58: 1434 | C58: מזרחי טפחות חברה להנפקות בע"מ | D58: 520032046 | E58: ח.פ. | F58: מזרחי טפ הנפק התח 73 | G58: IL0012430968 | H58: ISIN | I58: צמוד למדד המחירים לצרכן | J58: ישראל | K58: ישראל | L58: סחיר | M58: TASE | N58: בנקים | O58: לא | P58: AA- | Q58: S&P מעלות | R58: נייר ערך | S58: ILS | T58: 5.131 | U58: 08/12/2031 | V58: 0.0261 | W58: 0.0243 | X58: החוב לא נחות | Y58: לא | Z58: 60000 | AA58: 1 | AB58: 100.79 | AD58: 60.474 | AG58: שווי הוגן | AH58: 0.00012 | AI58: 0.008994166 | AJ58: 0.002564896
A59: 161 | B59: 1434 | C59: מזרחי טפחות חברה להנפקות בע"מ | D59: 520032046 | E59: ח.פ. | F59: מזרחי טפחות הנ אגח 72 | G59: IL0012430885 | H59: ISIN | I59: לא צמוד למדד המחירים לצרכן | J59: ישראל | K59: ישראל | L59: סחיר | M59: TASE | N59: בנקים | O59: לא | P59: AAA | Q59: S&P מעלות | R59: נייר ערך | S59: ILS | T59: 3.700 | U59: 08/06/2033 | V59: 0.0396 | W59: 0.03896 | X59: החוב לא נחות | Y59: לא | Z59: 60000 | AA59: 1 | AB59: 100.47 | AD59: 60.282 | AG59: שווי הוגן | AH59: 2e-05 | AI59: 0.0089656103 | AJ59: 0.0025567527
A60: 161 | B60: 1434 | C60: מזרחי טפחות חברה להנפקות בע"מ | D60: 520032046 | E60: ח.פ. | F60: מזרחי טפחות הנפק אגח 64 | G60: IL0023105559 | H60: ISIN | I60: צמוד למדד המחירים לצרכן | J60: ישראל | K60: ישראל | L60: סחיר | M60: TASE | N60: בנקים | O60: לא | P60: AAA | Q60: S&P מעלות | R60: נייר ערך | S60: ILS | T60: 2.737 | U60: 13/04/2031 | V60: 0.001 | W60: 0.02143 | X60: החוב לא נחות | Y60: לא | Z60: 81432.76 | AA60: 1 | AB60: 108.95 | AD60: 88.721 | AG60: שווי הוגן | AH60: 4.4e-05 | AI60: 0.01319528 | AJ60: 0.0037629414
A61: 161 | B61: 1434 | C61: מימון ישיר מקבוצת ישיר 2006 בע"מ | D61: 513893123 | E61: ח.פ. | F61: מימון ישיר אגח ה | G61: IL0011828311 | H61: ISIN | I61: צמוד למדד המחירים לצרכן | J61: ישראל | K61: ישראל | L61: סחיר | M61: TASE | N61: אשראי חוץ בנקאי | O61: לא | P61: A1 | Q61: מידרוג Moodys | R61: נייר ערך | S61: ILS | T61: 2.332 | U61: 31/07/2031 | V61: 0.01 | W61: 0.02606 | X61: החוב לא נחות | Y61: לא | Z61: 62095.82 | AA61: 1 | AB61: 112.64 | AD61: 69.945 | AG61: שווי הוגן | AH61: 3.7e-05 | AI61: 0.010402727 | AJ61: 0.0029665801
A62: 161 | B62: 1434 | C62: מימון ישיר מקבוצת ישיר 2006 בע"מ | D62: 513893123 | E62: ח.פ. | F62: מימון ישיר אגח ו | G62: IL0011916595 | H62: ISIN | I62: צמוד למדד המחירים לצרכן | J62: ישראל | K62: ישראל | L62: סחיר | M62: TASE | N62: אשראי חוץ בנקאי | O62: לא | P62: A1 | Q62: מידרוג Moodys | R62: נייר ערך | S62: ILS | T62: 0.491 | U62: 31/03/2027 | V62: 0.0354 | W62: 0.03702 | X62: החוב לא נחות | Y62: לא | Z62: 24000 | AA62: 1 | AB62: 111.7 | AD62: 26.808 | AG62: שווי הוגן | AH62: 4.3e-05 | AI62: 0.0039870953 | AJ62: 0.0011370131
A63: 161 | B63: 1434 | C63: מליסרון בע"מ | D63: 520037789 | E63: ח.פ. | F63: מליסרון אגח יט | G63: IL0032303989 | H63: ISIN | I63: צמוד למדד המחירים לצרכן | J63: ישראל | K63: ישראל | L63: סחיר | M63: TASE | N63: נדל"ן מניב בישראל | O63: לא | P63: AA | Q63: S&P מעלות | R63: נייר ערך | S63: ILS | T63: 2.862 | U63: 01/07/2029 | V63: 0.0143 | W63: 0.02272 | X63: החוב לא נחות | Y63: לא | Z63: 98079.47 | AA63: 1 | AB63: 116.54 | AC63: 2.176 | AD63: 116.478 | AG63: שווי הוגן | AH63: 5.2e-05 | AI63: 0.017323499 | AJ63: 0.0049401992
A64: 161 | B64: 1434 | C64: מליסרון בע"מ | D64: 520037789 | E64: ח.פ. | F64: מליסרון אגח כא | G64: IL0011946386 | H64: ISIN | I64: צמוד למדד המחירים לצרכן | J64: ישראל | K64: ישראל | L64: סחיר | M64: TASE | N64: נדל"ן מניב בישראל | O64: לא | P64: AA | Q64: S&P מעלות | R64: נייר ערך | S64: ILS | T64: 5.010 | U64: 01/01/2037 | V64: 0.0361 | W64: 0.02533 | X64: החוב לא נחות | Y64: לא | Z64: 135461.41 | AA64: 1 | AB64: 115.48 | AC64: 5.907 | AD64: 162.338 | AG64: שווי הוגן | AH64: 4.4e-05 | AI64: 0.024144137 | AJ64: 0.0068852633
A65: 161 | B65: 1434 | C65: מליסרון בע"מ | D65: 520037789 | E65: ח.פ. | F65: מליסרון אגח יז | G65: IL0032302734 | H65: ISIN | I65: צמוד למדד המחירים לצרכן | J65: ישראל | K65: ישראל | L65: סחיר | M65: TASE | N65: נדל"ן מניב בישראל | O65: לא | P65: AA | Q65: S&P מעלות | R65: נייר ערך | S65: ILS | T65: 2.890 | U65: 01/01/2032 | V65: 0.0225 | W65: 0.02399 | X65: החוב לא נחות | Y65: לא | Z65: 77916.66 | AA65: 1 | AB65: 120.4 | AC65: 9.717 | AD65: 103.529 | AG65: שווי הוגן | AH65: 5.3e-05 | AI65: 0.015397657 | AJ65: 0.0043910006
A66: 161 | B66: 1434 | C66: מליסרון בע"מ | D66: 520037789 | E66: ח.פ. | F66: מליסרון אגח כ | G66: IL0032304227 | H66: ISIN | I66: צמוד למדד המחירים לצרכן | J66: ישראל | K66: ישראל | L66: סחיר | M66: TASE | N66: נדל"ן מניב בישראל | O66: לא | P66: AA | Q66: S&P מעלות | R66: נייר ערך | S66: ILS | T66: 3.808 | U66: 01/07/2030 | V66: 0.0025 | W66: 0.0239 | X66: החוב לא נחות | Y66: לא | Z66: 79108.24 | AA66: 1 | AB66: 108.03 | AC66: 1.22 | AD66: 86.68 | AG66: שווי הוגן | AH66: 6.1e-05 | AI66: 0.0128918 | AJ66: 0.0036763972
A67: 161 | B67: 1434 | C67: מליסרון בע"מ | D67: 520037789 | E67: ח.פ. | F67: מליסרון אגח כב | G67: IL0012332388 | H67: ISIN | I67: צמוד למדד המחירים לצרכן | J67: ישראל | K67: ישראל | L67: סחיר | M67: TASE | N67: נדל"ן מניב בישראל | O67: לא | P67: AA | Q67: S&P מעלות | R67: נייר ערך | S67: ILS | T67: 7.021 | U67: 10/07/2040 | V67: 0.0295 | W67: 0.02627 | X67: החוב לא נחות | Y67: לא | Z67: 35000 | AA67: 1 | AB67: 104.73 | AD67: 36.656 | AG67: שווי הוגן | AH67: 7.9e-05 | AI67: 0.0054516925 | AJ67: 0.0015546771
A68: 161 | B68: 1434 | C68: מנורה מבטחים גיוס הון בע"מ | D68: 513937714 | E68: ח.פ. | F68: מנורה הון אגח ז | G68: IL0011841918 | H68: ISIN | I68: לא צמוד למדד המחירים לצרכן | J68: ישראל | K68: ישראל | L68: סחיר | M68: TASE | N68: ביטוח | O68: לא | P68: Aa3 | Q68: מידרוג Moodys | R68: נייר ערך | S68: ILS | T68: 4.240 | U68: 31/12/2030 | V68: 0.0298 | W68: 0.03875 | X68: החוב לא נחות | Y68: לא | Z68: 110000 | AA68: 1 | AB68: 96.48 | AD68: 106.128 | AG68: שווי הוגן | AH68: 0.00028 | AI68: 0.015784186 | AJ68: 0.0045012283
A69: 161 | B69: 1434 | C69: מנורה מבטחים גיוס הון בע"מ | D69: 513937714 | E69: ח.פ. | F69: מנורה הון התח סד' י | G69: IL0012290040 | H69: ISIN | I69: לא צמוד למדד המחירים לצרכן | J69: ישראל | K69: ישראל | L69: סחיר | M69: TASE | N69: ביטוח | O69: לא | P69: A1 | Q69: מידרוג Moodys | R69: נייר ערך | S69: ILS | T69: 7.605 | U69: 30/11/2035 | V69: 0.0518 | W69: 0.04427 | X69: החוב לא נחות | Y69: לא | Z69: 70000 | AA69: 1 | AB69: 106.55 | AD69: 74.585 | AG69: שווי הוגן | AH69: 8.7e-05 | AI69: 0.011092864 | AJ69: 0.0031633887
A70: 161 | B70: 1434 | C70: קבוצת עזריאלי בע"מ (לשעבר קנית מימון) | D70: 510960719 | E70: ח.פ. | F70: עזריאלי אגח ד | G70: IL0011386500 | H70: ISIN | I70: צמוד למדד המחירים לצרכן | J70: ישראל | K70: ישראל | L70: סחיר | M70: TASE | N70: נדל"ן מניב בישראל | O70: לא | P70: AA+ | Q70: S&P מעלות | R70: נייר ערך | S70: ILS | T70: 2.215 | U70: 05/07/2030 | V70: 0.0134 | W70: 0.02307 | X70: החוב לא נחות | Y70: לא | Z70: 77500 | AA70: 1 | AB70: 118.34 | AC70: 12.415 | AD70: 104.129 | AG70: שווי הוגן | AH70: 4.4e-05 | AI70: 0.015486877 | AJ70: 0.0044164439
A71: 161 | B71: 1434 | C71: קבוצת עזריאלי בע"מ (לשעבר קנית מימון) | D71: 510960719 | E71: ח.פ. | F71: עזריאלי אגח ז | G71: IL0011786725 | H71: ISIN | I71: צמוד למדד המחירים לצרכן | J71: ישראל | K71: ישראל | L71: סחיר | M71: TASE | N71: נדל"ן מניב בישראל | O71: לא | P71: AA+ | Q71: S&P מעלות | R71: נייר ערך | S71: ILS | T71: 5.628 | U71: 02/07/2036 | V71: 0.009 | W71: 0.02355 | X71: החוב לא נחות | Y71: לא | Z71: 237036.67 | AA71: 1 | AB71: 108.4 | AC71: 7.209 | AD71: 264.157 | AG71: שווי הוגן | AH71: 9e-05 | AI71: 0.039287455 | AJ71: 0.011203733
A72: 161 | B72: 1434 | C72: בנק הפועלים בע"מ | D72: 520000118 | E72: ח.פ. | F72: פועלים אגח 100 | G72: IL0066204889 | H72: ISIN | I72: לא צמוד למדד המחירים לצרכן | J72: ישראל | K72: ישראל | L72: סחיר | M72: TASE | N72: בנקים | O72: לא | P72: AAA | Q72: S&P מעלות | R72: נייר ערך | S72: ILS | T72: 2.767 | U72: 09/12/2031 | V72: 0.025 | W72: 0.03722 | X72: החוב לא נחות | Y72: לא | Z72: 127500.01 | AA72: 1 | AB72: 98.1 | AD72: 125.078 | AG72: שווי הוגן | AH72: 7.3e-05 | AI72: 0.018602505 | AJ72: 0.0053049377
A73: 161 | B73: 1434 | C73: בנק הפועלים בע"מ | D73: 520000118 | E73: ח.פ. | F73: פועלים אגח 200 | G73: IL0066204962 | H73: ISIN | I73: צמוד למדד המחירים לצרכן | J73: ישראל | K73: ישראל | L73: סחיר | M73: TASE | N73: בנקים | O73: לא | P73: AAA | Q73: S&P מעלות | R73: נייר ערך | S73: ILS | T73: 2.877 | U73: 09/12/2031 | V73: 0.001 | W73: 0.02107 | X73: החוב לא נחות | Y73: לא | Z73: 88377 | AA73: 1 | AB73: 109.94 | AD73: 97.162 | AG73: שווי הוגן | AH73: 0.000105 | AI73: 0.014450644 | AJ73: 0.0041209377
A74: 161 | B74: 1434 | C74: בנק הפועלים בע"מ | D74: 520000118 | E74: ח.פ. | F74: פועלים אגח 201 | G74: IL0011913451 | H74: ISIN | I74: צמוד למדד המחירים לצרכן | J74: ישראל | K74: ישראל | L74: סחיר | M74: TASE | N74: בנקים | O74: לא | P74: AAA | Q74: S&P מעלות | R74: נייר ערך | S74: ILS | T74: 3.275 | U74: 29/11/2032 | V74: 0.0139 | W74: 0.02169 | X74: החוב לא נחות | Y74: לא | Z74: 111377.78 | AA74: 1 | AB74: 108.9 | AD74: 121.29 | AG74: שווי הוגן | AH74: 3.6e-05 | AI74: 0.018039257 | AJ74: 0.0051443144
A75: 161 | B75: 1434 | C75: בנק הפועלים בע"מ | D75: 520000118 | E75: ח.פ. | F75: פועלים אגח 202 | G75: IL0011998502 | H75: ISIN | I75: צמוד למדד המחירים לצרכן | J75: ישראל | K75: ישראל | L75: סחיר | M75: TASE | N75: בנקים | O75: לא | P75: AAA | Q75: S&P מעלות | R75: נייר ערך | S75: ILS | T75: 1.320 | U75: 30/04/2028 | V75: 0.006 | W75: 0.02216 | X75: החוב לא נחות | Y75: לא | Z75: 36109.75 | AA75: 1 | AB75: 118 | AD75: 42.61 | AG75: שווי הוגן | AH75: 8.1e-05 | AI75: 0.0063372187 | AJ75: 0.0018072056
A76: 161 | B76: 1434 | C76: בנק הפועלים בע"מ | D76: 520000118 | E76: ח.פ. | F76: פועלים אגח 203 | G76: IL0011998684 | H76: ISIN | I76: צמוד למדד המחירים לצרכן | J76: ישראל | K76: ישראל | L76: סחיר | M76: TASE | N76: בנקים | O76: לא | P76: AAA | Q76: S&P מעלות | R76: נייר ערך | S76: ILS | T76: 2.347 | U76: 02/12/2030 | V76: 0.0175 | W76: 0.02183 | X76: החוב לא נחות | Y76: לא | Z76: 104491.31 | AA76: 1 | AB76: 118.62 | AD76: 123.948 | AG76: שווי הוגן | AH76: 5.6e-05 | AI76: 0.018434455 | AJ76: 0.0052570143
A77: 161 | B77: 1434 | C77: בנק הפועלים בע"מ | D77: 520000118 | E77: ח.פ. | F77: פועלים אגח 204 | G77: IL0012274531 | H77: ISIN | I77: צמוד למדד המחירים לצרכן | J77: ישראל | K77: ישראל | L77: סחיר | M77: TASE | N77: בנקים | O77: לא | P77: AAA | Q77: S&P מעלות | R77: נייר ערך | S77: ILS | T77: 4.271 | U77: 21/08/2035 | V77: 0.0261 | W77: 0.02233 | X77: החוב לא נחות | Y77: לא | Z77: 70000 | AA77: 1 | AB77: 105.16 | AD77: 73.612 | AG77: שווי הוגן | AH77: 2e-05 | AI77: 0.010948152 | AJ77: 0.0031221206
A78: 161 | B78: 1434 | C78: בנק הפועלים בע"מ | D78: 520000118 | E78: ח.פ. | F78: פועלים התח נד יב | G78: IL0012141219 | H78: ISIN | I78: צמוד למדד המחירים לצרכן | J78: ישראל | K78: ישראל | L78: סחיר | M78: TASE | N78: בנקים | O78: לא | P78: AA- | Q78: S&P מעלות | R78: נייר ערך | S78: ILS | T78: 5.775 | U78: 28/11/2032 | V78: 0.0345 | W78: 0.02407 | X78: החוב לא נחות | Y78: לא | Z78: 50000 | AA78: 1 | AB78: 111.57 | AD78: 55.785 | AG78: שווי הוגן | AH78: 3.4e-05 | AI78: 0.0082967813 | AJ78: 0.0023660205
A79: 161 | B79: 1434 | C79: פורמולה מערכות (1985)בע"מ | D79: 520036690 | E79: ח.פ. | F79: פורמולה אג"ח ג | G79: IL0025602090 | H79: ISIN | I79: לא צמוד למדד המחירים לצרכן | J79: ישראל | K79: ישראל | L79: סחיר | M79: TASE | N79: שרותי מידע | O79: לא | P79: AA- | Q79: S&P מעלות | R79: נייר ערך | S79: ILS | T79: 0.416 | U79: 01/12/2026 | V79: 0.0229 | W79: 0.04394 | X79: החוב לא נחות | Y79: לא | Z79: 10961.54 | AA79: 1 | AB79: 99.35 | AD79: 10.89 | AG79: שווי הוגן | AH79: 6.6e-05 | AI79: 0.0016196891 | AJ79: 0.00046189207
A80: 161 | B80: 1434 | C80: פז קמעונאות ואנרגיה בע"מ | D80: 510216054 | E80: ח.פ. | F80: פז נפט ו | G80: IL0011395428 | H80: ISIN | I80: צמוד למדד המחירים לצרכן | J80: ישראל | K80: ישראל | L80: סחיר | M80: TASE | N80: אנרגיה | O80: לא | P80: AA- | Q80: S&P מעלות | R80: נייר ערך | S80: ILS | T80: 1.394 | U80: 30/11/2028 | V80: 0.0194 | W80: 0.02194 | X80: החוב לא נחות | Y80: לא | Z80: 24015.36 | AA80: 1 | AB80: 120.06 | AD80: 28.833 | AG80: שווי הוגן | AH80: 0.000133 | AI80: 0.0042882455 | AJ80: 0.0012228931
A81: 161 | B81: 1434 | C81: קרסו מוטורס בע"מ | D81: 514065283 | E81: ח.פ. | F81: קרסו מוטורס אגח ד | G81: IL0011735664 | H81: ISIN | I81: לא צמוד למדד המחירים לצרכן | J81: ישראל | K81: ישראל | L81: סחיר | M81: TASE | N81: מסחר | O81: לא | P81: AA- | Q81: S&P מעלות | R81: נייר ערך | S81: ILS | T81: 1.229 | U81: 01/10/2028 | V81: 0.0215 | W81: 0.04009 | X81: החוב לא נחות | Y81: לא | Z81: 72095.89 | AA81: 1 | AB81: 97.82 | AC81: 8.414 | AD81: 78.939 | AG81: שווי הוגן | AH81: 0.000147 | AI81: 0.011740373 | AJ81: 0.0033480409
A82: 161 | B82: 1434 | C82: ריט 1 בע"מ | D82: 513821488 | E82: ח.פ. | F82: ריט 1 ח | G82: IL0012240961 | H82: ISIN | I82: צמוד למדד המחירים לצרכן | J82: ישראל | K82: ישראל | L82: סחיר | M82: TASE | N82: נדל"ן מניב בישראל | O82: לא | P82: AA | Q82: S&P מעלות | R82: נייר ערך | S82: ILS | T82: 7.599 | U82: 20/09/2038 | V82: 0.04 | W82: 0.02693 | X82: החוב לא נחות | Y82: לא | Z82: 30000 | AA82: 1 | AB82: 113.67 | AD82: 34.101 | AG82: שווי הוגן | AH82: 4.5e-05 | AI82: 0.0050717673 | AJ82: 0.0014463326
...

Sheet מניות מבכ ויהש
A1: מספר קופה/קרן/ח.פ. עבור חברת ביטוח | B1: מספר מסלול | C1: שם מנפיק | D1: מספר מנפיק | E1: סוג מספר מזהה מנפיק | F1: שם נייר ערך | G1: מספר נייר ערך | H1: סוג מספר נייר ערך | I1: מאפיין עיקרי | J1: ישראל/חו"ל | K1: מדינה לפי חשיפה כלכלית | L1: סטאטוס סחירות | M1: זירת מסחר | N1: ענף מסחר | O1: בעל עניין/צד קשור | P1: מטבע פעילות | Q1: ערך נקוב (יחידות) | R1: שער חליפין | S1: שער נייר הערך | T1: סכום לקבל (במטבע הפעילות) | U1: שווי הוגן (באלפי ש"ח) | V1: שיעור מערך נקוב מונפק | W1: שיעור מנכסי אפיק ההשקעה | X1: שיעור מסך נכסי ההשקעה
A2: 14076 | B2: 14077 | C2: אלביט מערכות בע"מ | D2: 520043027 | E2: ח.פ. | F2: אלביט מערכות | G2: IL0010811243 | H2: ISIN | I2: מניות | J2: ישראל | K2: ישראל | L2: סחיר | M2: TASE | N2: ביטחוניות | O2: לא | P2: ILS | Q2: 74 | R2: 1 | S2: 226000 | T2: 0.221 | U2: 167.461 | V2: 2e-06 | W2: 0.054124626 | X2: 0.0049375624
A3: 14076 | B3: 14077 | C3: אלוני-חץ נכסים והשקעות בע"מ | D3: 520038506 | E3: ח.פ. | F3: אלוני חץ | G3: IL0003900136 | H3: ISIN | I3: מניות | J3: ישראל | K3: ישראל | L3: סחיר | M3: TASE | N3: נדל"ן מניב בישראל | O3: לא | P3: ILS | Q3: 1100 | R3: 1 | S3: 3316 | U3: 36.476 | V3: 5e-06 | W3: 0.011789288 | X3: 0.0010754873
A4: 14076 | B4: 14077 | C4: אנלייט אנרגיה מתחדשת בע"מ | D4: 520041146 | E4: ח.פ. | F4: אנלייט אנרגיה | G4: IL0007200111 | H4: ISIN | I4: מניות | J4: ישראל | K4: ארה"ב | L4: סחיר | M4: TASE | N4: אנרגיה מתחדשת | O4: לא | P4: ILS | Q4: 530 | R4: 1 | S4: 26300 | U4: 139.39 | V4: 4e-06 | W4: 0.045051784 | X4: 0.0041098851
A5: 14076 | B5: 14077 | C5: בזק החברה הישראלית לתקשורת בע"מ | D5: 520031931 | E5: ח.פ. | F5: בזק | G5: IL0002300114 | H5: ISIN | I5: מניות | J5: ישראל | K5: ישראל | L5: סחיר | M5: TASE | N5: תקשורת ומדיה | O5: לא | P5: ILS | Q5: 7000 | R5: 1 | S5: 702.7 | U5: 49.189 | V5: 3e-06 | W5: 0.015898215 | X5: 0.0014503274
A6: 14076 | B6: 14077 | C6: ביג מרכזי קניות (2004) בע"מ | D6: 513623314 | E6: ח.פ. | F6: ביג | G6: IL0010972607 | H6: ISIN | I6: מניות | J6: ישראל | K6: ישראל | L6: סחיר | M6: TASE | N6: נדל"ן מניב בישראל | O6: לא | P6: ILS | Q6: 75 | R6: 1 | S6: 67510 | U6: 50.633 | V6: 3e-06 | W6: 0.016364764 | X6: 0.0014928887
A7: 14076 | B7: 14077 | C7: ג'נריישן ניהול בע"מ | D7: 515785012 | E7: ח.פ. | F7: ג'נריישן קפיטל | G7: IL0011569261 | H7: ISIN | I7: מניות | J7: ישראל | K7: ישראל | L7: סחיר | M7: TASE | N7: השקעה ואחזקות | O7: לא | P7: ILS | Q7: 17000 | R7: 1 | S7: 277 | U7: 47.09 | V7: 8e-06 | W7: 0.015219804 | X7: 0.0013884388
A8: 14076 | B8: 14077 | C8: הפניקס אחזקות בע"מ | D8: 520017450 | E8: ח.פ. | F8: הפניקס | G8: IL0007670123 | H8: ISIN | I8: מניות | J8: ישראל | K8: ישראל | L8: סחיר | M8: TASE | N8: ביטוח | O8: לא | P8: ILS | Q8: 550 | R8: 1 | S8: 16460 | U8: 90.53 | V8: 2e-06 | W8: 0.029259904 | X8: 0.0026692582
A9: 14076 | B9: 14077 | C9: הראל השקעות בביטוח ושרותים פיננסים בע"מ | D9: 520033986 | E9: ח.פ. | F9: הראל השקעות | G9: IL0005850180 | H9: ISIN | I9: מניות | J9: ישראל | K9: ישראל | L9: סחיר | M9: TASE | N9: ביטוח | O9: לא | P9: ILS | Q9: 340 | R9: 1 | S9: 15660 | T9: 0.826 | U9: 54.07 | V9: 1e-06 | W9: 0.017475852 | X9: 0.0015942486
A10: 14076 | B10: 14077 | C10: טאואר סמיקונדקטור בע"מ | D10: 520041997 | E10: ח.פ. | F10: טאואר | G10: IL0010823792 | H10: ISIN | I10: מניות | J10: ישראל | K10: גלובלי | L10: סחיר | M10: TASE | N10: מוליכים למחצה | O10: לא | P10: ILS | Q10: 270 | R10: 1 | S10: 76440 | U10: 206.388 | V10: 2e-06 | W10: 0.066705987 | X10: 0.0060853071
A11: 14076 | B11: 14077 | C11: טבע תעשיות פרמצבטיות בע"מ | D11: 520013954 | E11: ח.פ. | F11: טבע | G11: IL0006290147 | H11: ISIN | I11: מניות | J11: ישראל | K11: ארה"ב | L11: סחיר | M11: TASE | N11: פארמה | O11: לא | P11: ILS | Q11: 1765 | R11: 1 | S11: 9837 | U11: 173.623 | V11: 1e-06 | W11: 0.056116135 | X11: 0.0051192394
A12: 14076 | B12: 14077 | C12: ישראל קנדה (ט.ר) בעמ | D12: 520039298 | E12: ח.פ. | F12: ישראל קנדה | G12: IL0004340191 | H12: ISIN | I12: מניות | J12: ישראל | K12: ישראל | L12: סחיר | M12: TASE | N12: בנייה | O12: לא | P12: ILS | Q12: 1700 | R12: 1 | S12: 1759 | U12: 29.903 | V12: 5e-06 | W12: 0.0096648503 | X12: 0.00088168372
A13: 14076 | B13: 14077 | C13: בנק לאומי לישראל בע"מ | D13: 520018078 | E13: ח.פ. | F13: לאומי | G13: IL0006046119 | H13: ISIN | I13: מניות | J13: ישראל | K13: ישראל | L13: סחיר | M13: TASE | N13: בנקים | O13: לא | P13: ILS | Q13: 2150 | R13: 1 | S13: 6653 | U13: 143.04 | V13: 1e-06 | W13: 0.046231326 | X13: 0.0042174898
A14: 14076 | B14: 14077 | C14: מגה אור החזקות בע"מ | D14: 513257873 | E14: ח.פ. | F14: מגה אור | G14: IL0011044885 | H14: ISIN | I14: מניות | J14: ישראל | K14: ישראל | L14: סחיר | M14: TASE | N14: נדל"ן מניב בישראל | O14: לא | P14: ILS | Q14: 120 | R14: 1 | S14: 60000 | U14: 72 | V14: 3e-06 | W14: 0.023270883 | X14: 0.002122905
A15: 14076 | B15: 14077 | C15: מטריקס אי.טי בע"מ | D15: 520039413 | E15: ח.פ. | F15: מטריקס | G15: IL0004450156 | H15: ISIN | I15: מניות | J15: ישראל | K15: ישראל | L15: סחיר | M15: TASE | N15: שרותי מידע | O15: לא | P15: ILS | Q15: 280 | R15: 1 | S15: 7558 | T15: 0.272 | U15: 21.434 | V15: 3e-06 | W15: 0.0069276127 | X15: 0.00063197702
A16: 14076 | B16: 14077 | C16: מליסרון בע"מ | D16: 520037789 | E16: ח.פ. | F16: מליסרון | G16: IL0003230146 | H16: ISIN | I16: מניות | J16: ישראל | K16: ישראל | L16: סחיר | M16: TASE | N16: נדל"ן מניב בישראל | O16: לא | P16: ILS | Q16: 252 | R16: 1 | S16: 41770 | U16: 105.26 | V16: 5e-06 | W16: 0.034020868 | X16: 0.0031035809
A17: 14076 | B17: 14077 | C17: מנורה מבטחים החזקות בע"מ | D17: 520007469 | E17: ח.פ. | F17: מנורה מבטחים החזקות | G17: IL0005660183 | H17: ISIN | I17: מניות | J17: ישראל | K17: ישראל | L17: סחיר | M17: TASE | N17: ביטוח | O17: לא | P17: ILS | Q17: 90 | R17: 1 | S17: 44680 | U17: 40.212 | V17: 1e-06 | W17: 0.012996788 | X17: 0.0011856424
A18: 14076 | B18: 14077 | C18: נאוויטס פטרוליום, שותפות מוגבלת | D18: 550263107 | E18: מספר שותפות | F18: נאוויטס פט יהש | G18: IL0011419699 | H18: ISIN | I18: מניות | J18: ישראל | K18: ארה"ב | L18: סחיר | M18: TASE | N18: חיפושי נפט וגז | O18: לא | P18: ILS | Q18: 900 | R18: 1 | S18: 11950 | U18: 107.55 | V18: 8e-06 | W18: 0.034760882 | X18: 0.0031710893
A19: 14076 | B19: 14077 | C19: ניו-מד אנרג'י- שותפות מוגבלת | D19: 550013098 | E19: מספר שותפות | F19: ניו-מד אנרג'י יהש | G19: IL0004750209 | H19: ISIN | I19: מניות | J19: ישראל | K19: ישראל | L19: סחיר | M19: TASE | N19: חיפושי נפט וגז | O19: לא | P19: ILS | Q19: 3550 | R19: 1 | S19: 1560 | U19: 55.38 | V19: 3e-06 | W19: 0.017899188 | X19: 0.0016328678
A20: 14076 | B20: 14077 | C20: נייס מערכות בע"מ | D20: 520036872 | E20: ח.פ. | F20: נייס | G20: IL0002730112 | H20: ISIN | I20: מניות | J20: ישראל | K20: ארה"ב | L20: סחיר | M20: TASE | N20: תוכנה ואינטרנט | O20: לא | P20: ILS | Q20: 200 | R20: 1 | S20: 26760 | U20: 53.52 | V20: 3e-06 | W20: 0.017298023 | X20: 0.001578026
A21: 14076 | B21: 14077 | C21: נקסט ויז'ן | D21: 514259019 | E21: ח.פ. | F21: נקסט ויז'ן | G21: IL0011765935 | H21: ISIN | I21: מניות | J21: ישראל | K21: ישראל | L21: סחיר | M21: TASE | N21: אלקטרוניקה ואופטיקה | O21: לא | P21: ILS | Q21: 450 | R21: 1 | S21: 24060 | U21: 108.27 | V21: 5e-06 | W21: 0.034993591 | X21: 0.0031923184
A22: 14076 | B22: 14077 | C22: קבוצת עזריאלי בע"מ (לשעבר קנית מימון) | D22: 510960719 | E22: ח.פ. | F22: עזריאלי קבוצה | G22: IL0011194789 | H22: ISIN | I22: מניות | J22: ישראל | K22: ישראל | L22: סחיר | M22: TASE | N22: נדל"ן מניב בישראל | O22: לא | P22: ILS | Q22: 210 | R22: 1 | S22: 40430 | U22: 84.903 | V22: 2e-06 | W22: 0.027441219 | X22: 0.0025033473
A23: 14076 | B23: 14077 | C23: בנק הפועלים בע"מ | D23: 520000118 | E23: ח.פ. | F23: פועלים | G23: IL0006625771 | H23: ISIN | I23: מניות | J23: ישראל | K23: ישראל | L23: סחיר | M23: TASE | N23: בנקים | O23: לא | P23: ILS | Q23: 1100 | R23: 1 | S23: 6859 | U23: 75.449 | V23: 1e-06 | W23: 0.024385623 | X23: 0.002224598
A24: 14076 | B24: 14077 | C24: מפעלי פ.מ.ס. מיגון בע"מ | D24: 520037284 | E24: ח.פ. | F24: פמס | G24: IL0003150104 | H24: ISIN | I24: מניות | J24: ישראל | K24: ישראל | L24: סחיר | M24: TASE | N24: אופנה והלבשה | O24: לא | P24: ILS | Q24: 160 | R24: 1 | S24: 22480 | U24: 35.968 | V24: 1.7e-05 | W24: 0.011625099 | X24: 0.001060509
A25: 14076 | B25: 14077 | C25: חברת פרטנר תקשורת בע"מ | D25: 520044314 | E25: ח.פ. | F25: פרטנר | G25: IL0010834849 | H25: ISIN | I25: מניות | J25: ישראל | K25: ישראל | L25: סחיר | M25: TASE | N25: תקשורת ומדיה | O25: לא | P25: ILS | Q25: 1820 | R25: 1 | S25: 3636 | U25: 66.175 | V25: 9e-06 | W25: 0.021388269 | X25: 0.001951162
A26: 14076 | B26: 14077 | C26: קבוצת אקרשטיין בע"מ | D26: 512714494 | E26: ח.פ. | F26: קבוצת אקרשטיין | G26: IL0011762056 | H26: ISIN | I26: מניות | J26: ישראל | K26: ישראל | L26: סחיר | M26: TASE | N26: מתכת ומוצרי בניה | O26: לא | P26: ILS | Q26: 4000 | R26: 1 | S26: 832.6 | U26: 33.304 | V26: 1.4e-05 | W26: 0.010764076 | X26: 0.0009819615
A27: 14076 | B27: 14077 | C27: ALPHABET INC | D27: 5493006MHB84DD0ZWV18 | E27: LEI | F27: ALPHABET INC CL C | G27: US02079K1079 | H27: ISIN | I27: מניות | J27: חו"ל | K27: ארה"ב | L27: סחיר | M27: NASDAQ | N27: Diversified Telecommunication Services | O27: לא | P27: USD | Q27: 150 | R27: 2.978 | S27: 35333 | U27: 157.833 | V27: 0 | W27: 0.051012527 | X27: 0.0046536587
... A31: 14076 | B31: 14077 | C31: קמטק בע"מ | D31: 511235434 | E31: ח.פ. | F31: Camtek Ltd | G31: IL0010952641 | H31: ISIN | I31: מניות | J31: חו"ל | K31: גלובלי | L31: סחיר | M31: NASDAQ | N31: Semiconductors & Semiconductor Equipment | O31: לא | P31: USD | Q31: 140 | R31: 2.978 | S31: 16312 | U31: 68.008 | V31: 3e-06 | W31: 0.021980639 | X31: 0.0020052014
A32: 14076 | B32: 14077 | C32: GLOBALFOUNDRIES ORD | D32: 549300BA76VK784VMX48 | E32: LEI | F32: GLOBALFOUNDRIES INC | G32: KYG393871085 | H32: ISIN | I32: מניות | J32: חו"ל | K32: ארה"ב | L32: סחיר | M32: NASDAQ | N32: Semiconductors & Semiconductor Equipment | O32: לא | P32: USD | Q32: 360 | R32: 2.978 | S32: 8241 | T32: 0.043 | U32: 88.479 | V32: 0 | W32: 0.02859693 | X32: 0.0026087779
A33: 14076 | B33: 14077 | C33: Meta Platforms Inc | D33: BQ4BKCS1HXDV9HN80Z93 | E33: LEI | F33: Meta Platforms, Inc | G33: US30303M1027 | H33: ISIN | I33: מניות | J33: חו"ל | K33: ארה"ב | L33: סחיר | M33: NASDAQ | N33: Diversified Telecommunication Services | O33: לא | P33: USD | Q33: 25 | R33: 2.978 | S33: 56329 | U33: 41.937 | V33: 0 | W33: 0.013554301 | X33: 0.0012365019
A34: 14076 | B34: 14077 | C34: MICROSOFT CORP | D34: INR2EJN1ERAN0W5ZP974 | E34: LEI | F34: Microsoft corp | G34: US5949181045 | H34: ISIN | I34: מניות | J34: חו"ל | K34: ארה"ב | L34: סחיר | M34: NASDAQ | N34: Software | O34: לא | P34: USD | Q34: 95 | R34: 2.978 | S34: 37302 | U34: 105.531 | V34: 0 | W34: 0.034108356 | X34: 0.0031115621
A35: 14076 | B35: 14077 | C35: נובה בע"מ | D35: 511812463 | E35: ח.פ. | F35: Nova measuring inst | G35: IL0010845571 | H35: ISIN | I35: מניות | J35: חו"ל | K35: גלובלי | L35: סחיר | M35: NASDAQ | N35: Semiconductors & Semiconductor Equipment | O35: לא | P35: USD | Q35: 100 | R35: 2.978 | S35: 54294 | U35: 161.688 | V35: 3e-06 | W35: 0.052258496 | X35: 0.0047673232
A36: 14076 | B36: 14077 | C36: NVIDIA CORP | D36: 549300S4KLFTLO7GSQ80 | E36: LEI | F36: Nvidia crop | G36: US67066G1040 | H36: ISIN | I36: מניות | J36: חו"ל | K36: ארה"ב | L36: סחיר | M36: NASDAQ | N36: Semiconductors & Semiconductor Equipment | O36: לא | P36: USD | Q36: 190 | R36: 2.978 | S36: 20009 | U36: 113.215 | V36: 0 | W36: 0.036591823 | X36: 0.0033381184
A37: 14076 | B37: 14079 | C37: אלביט מערכות בע"מ | D37: 520043027 | E37: ח.פ. | F37: אלביט מערכות | G37: IL0010811243 | H37: ISIN | I37: מניות | J37: ישראל | K37: ישראל | L37: סחיר | M37: TASE | N37: ביטחוניות | O37: לא | P37: ILS | Q37: 64 | R37: 1 | S37: 226000 | T37: 0.191 | U37: 144.831 | V37: 1e-06 | W37: 0.043310828 | X37: 0.008058925
A38: 14076 | B38: 14079 | C38: אלוני-חץ נכסים והשקעות בע"מ | D38: 520038506 | E38: ח.פ. | F38: אלוני חץ | G38: IL0003900136 | H38: ISIN | I38: מניות | J38: ישראל | K38: ישראל | L38: סחיר | M38: TASE | N38: נדל"ן מניב בישראל | O38: לא | P38: ILS | Q38: 1000 | R38: 1 | S38: 3316 | U38: 33.16 | V38: 4e-06 | W38: 0.0099162673 | X38: 0.001845138
A39: 14076 | B39: 14079 | C39: אנלייט אנרגיה מתחדשת בע"מ | D39: 520041146 | E39: ח.פ. | F39: אנלייט אנרגיה | G39: IL0007200111 | H39: ISIN | I39: מניות | J39: ישראל | K39: ארה"ב | L39: סחיר | M39: TASE | N39: אנרגיה מתחדשת | O39: לא | P39: ILS | Q39: 580 | R39: 1 | S39: 26300 | U39: 152.54 | V39: 4e-06 | W39: 0.045616026 | X39: 0.0084878572
A40: 14076 | B40: 14079 | C40: אנרג'יקס אנרגיות מתחדשות בע"מ | D40: 513901371 | E40: ח.פ. | F40: אנרג'יקס | G40: IL0011233553 | H40: ISIN | I40: מניות | J40: ישראל | K40: ישראל | L40: סחיר | M40: TASE | N40: אנרגיה מתחדשת | O40: לא | P40: ILS | Q40: 1590 | R40: 1 | S40: 2613 | U40: 41.547 | V40: 3e-06 | W40: 0.012424252 | X40: 0.0023118032
A41: 14076 | B41: 14079 | C41: בזק החברה הישראלית לתקשורת בע"מ | D41: 520031931 | E41: ח.פ. | F41: בזק | G41: IL0002300114 | H41: ISIN | I41: מניות | J41: ישראל | K41: ישראל | L41: סחיר | M41: TASE | N41: תקשורת ומדיה | O41: לא | P41: ILS | Q41: 11200 | R41: 1 | S41: 702.7 | U41: 78.702 | V41: 4e-06 | W41: 0.023535405 | X41: 0.0043792758
A42: 14076 | B42: 14079 | C42: ביג מרכזי קניות (2004) בע"מ | D42: 513623314 | E42: ח.פ. | F42: ביג | G42: IL0010972607 | H42: ISIN | I42: מניות | J42: ישראל | K42: ישראל | L42: סחיר | M42: TASE | N42: נדל"ן מניב בישראל | O42: לא | P42: ILS | Q42: 85 | R42: 1 | S42: 67510 | U42: 57.383 | V42: 3e-06 | W42: 0.017160136 | X42: 0.0031930179
A43: 14076 | B43: 14079 | C43: חברת גב-ים לקרקעות בע"מ | D43: 520001736 | E43: ח.פ. | F43: גב ים | G43: IL0007590198 | H43: ISIN | I43: מניות | J43: ישראל | K43: ישראל | L43: סחיר | M43: TASE | N43: נדל"ן מניב בישראל | O43: לא | P43: ILS | Q43: 700 | R43: 1 | S43: 3662 | U43: 25.634 | V43: 3e-06 | W43: 0.0076656693 | X43: 0.0014263651
...

Sheet קרנות סל
A1: מספר קופה/קרן/ח.פ. עבור חברת ביטוח | B1: מספר מסלול | C1: שם מנפיק | D1: מספר מנפיק | E1: סוג מספר מזהה מנפיק | F1: שם נייר ערך | G1: מספר נייר ערך | H1: סוג מספר נייר ערך | I1: מאפיין עיקרי | J1: ישראל/חו"ל | K1: מדינה לפי חשיפה כלכלית | L1: זירת מסחר | M1: סיווג הקרן | N1: בעל עניין/צד קשור | O1: מטבע פעילות | P1: ערך נקוב (יחידות) | Q1: שער חליפין | R1: שער נייר הערך | S1: סכום לקבל (במטבע הפעילות) | T1: שווי הוגן (באלפי ש"ח) | U1: שיעור מערך נקוב מונפק | V1: שיעור מנכסי אפיק ההשקעה | W1: שיעור מסך נכסי ההשקעה
A2: 14076 | B2: 14077 | C2: מגדל קרנות נאמנות בע"מ | D2: 511303661 | E2: ח.פ. | F2: MTF סל תא 125 | G2: IL0011502833 | H2: ISIN | I2: עוקב אחר מדדי מניות בישראל | J2: ישראל | K2: ישראל | L2: TASE | M2: 125 מניות בארץ - מניות כללי-ת"א | N2: לא | O2: ILS | P2: 7379 | Q2: 1 | R2: 6154 | T2: 454.104 | U2: 7e-05 | V2: 0.020644805 | W2: 0.013389152
A3: 14076 | B3: 14077 | C3: מגדל קרנות נאמנות בע"מ | D3: 511303661 | E3: ח.פ. | F3: MTF סל תלבונד 60 | G3: IL0011499964 | H3: ISIN | I3: עוקב אחר מדדים אחרים בישראל | J3: ישראל | K3: ישראל | L3: TASE | M3: 60 אג"ח בארץ - חברות והמרה-תל בונד צמוד מדד-תל בונד | N3: לא | O3: ILS | P3: 141468 | Q3: 1 | R3: 519.03 | T3: 734.261 | U3: 0.000674 | V3: 0.033381547 | W3: 0.021649543
A4: 14076 | B4: 14077 | C4: מגדל קרנות נאמנות בע"מ | D4: 511303661 | E4: ח.פ. | F4: MTF500SP ממ | G4: IL0011505729 | H4: ISIN | I4: עוקב אחר מדדי מניות בחו"ל | J4: ישראל | K4: ארה"ב | L4: TASE | M4: S&P 500 - מניות בחו"ל - מניות גיאוגרפי - מנוטרלת מט"ח-ארה"ב | N4: לא | O4: ILS | P4: 28604 | Q4: 1 | R4: 9399 | T4: 2688.49 | U4: 0.001174 | V4: 0.12222617 | W4: 0.079269566
A5: 14076 | B5: 14077 | C5: הראל קרנות נאמנות בע"מ | D5: 511776783 | E5: ח.פ. | F5: הראל סל 4A S&P 500 מנוטרלת | G5: IL0011491375 | H5: ISIN | I5: עוקב אחר מדדי מניות בחו"ל | J5: ישראל | K5: ארה"ב | L5: TASE | M5: S&P 500 - מניות בחו"ל - מניות גיאוגרפי - מנוטרלת מט"ח-ארה"ב | N5: לא | O5: ILS | P5: 2300 | Q5: 1 | R5: 7085 | T5: 162.955 | U5: 1.9e-05 | V5: 0.0074083838 | W5: 0.0048046942
A6: 14076 | B6: 14077 | C6: הראל קרנות נאמנות בע"מ | D6: 511776783 | E6: ח.פ. | F6: הראל סל תא 90 | G6: IL0011489312 | H6: ISIN | I6: עוקב אחר מדדי מניות בישראל | J6: ישראל | K6: ישראל | L6: TASE | M6: 90 מניות בארץ - מניות כללי-ת"א | N6: לא | O6: ILS | P6: 5852 | Q6: 1 | R6: 3502 | T6: 204.937 | U6: 2.3e-05 | V6: 0.0093170032 | W6: 0.0060425259
A7: 14076 | B7: 14077 | C7: הראל קרנות נאמנות בע"מ | D7: 511776783 | E7: ח.פ. | F7: הראל סל תא נדלן | G7: IL0011489643 | H7: ISIN | I7: עוקב אחר מדדי מניות בישראל | J7: ישראל | K7: ישראל | L7: TASE | M7: מניות בארץ - מניות לפי ענפים-ת"א נדל"ן | N7: לא | O7: ILS | P7: 36080 | Q7: 1 | R7: 1343 | T7: 484.554 | U7: 0.000668 | V7: 0.02202918 | W7: 0.014286985
A8: 14076 | B8: 14077 | C8: הראל קרנות נאמנות בע"מ | D8: 511776783 | E8: ח.פ. | F8: הראל סל תל בונד שקלי | G8: IL0011505232 | H8: ISIN | I8: עוקב אחר מדדים אחרים בישראל | J8: ישראל | K8: ישראל | L8: TASE | M8: אג"ח בארץ - חברות והמרה-תל בונד שקלי-תל בונד שקלי- אחר | N8: לא | O8: ILS | P8: 282820 | Q8: 1 | R8: 440.02 | T8: 1244.465 | U8: 0.000855 | V8: 0.056576792 | W8: 0.036692778
A9: 14076 | B9: 14077 | C9: הראל קרנות נאמנות בע"מ | D9: 511776783 | E9: ח.פ. | F9: הראל סל.תא 35 | G9: IL0011489072 | H9: ISIN | I9: עוקב אחר מדדי מניות בישראל | J9: ישראל | K9: ישראל | L9: TASE | M9: 35 מניות בארץ - מניות כללי-ת"א | N9: לא | O9: ILS | P9: 5430 | Q9: 1 | R9: 3992 | T9: 216.766 | U9: 6.4e-05 | V9: 0.0098547621 | W9: 0.0063912885
A10: 14076 | B10: 14077 | C10: הראל קרנות נאמנות בע"מ | D10: 511776783 | E10: ח.פ. | F10: הראל קרן סל תא 125 | G10: IL0011488991 | H10: ISIN | I10: עוקב אחר מדדי מניות בישראל | J10: ישראל | K10: ישראל | L10: TASE | M10: 125 מניות בארץ - מניות כללי-ת"א | N10: לא | O10: ILS | P10: 19311 | Q10: 1 | R10: 3912 | T10: 755.446 | U10: 9.4e-05 | V10: 0.034344674 | W10: 0.022274177
A11: 14076 | B11: 14077 | C11: מור ניהול קרנות נאמנות בע"מ | D11: 514884485 | E11: ח.פ. | F11: מור סל (A4) ת"א -125 | G11: IL0011961534 | H11: ISIN | I11: עוקב אחר מדדי מניות בישראל | J11: ישראל | K11: ישראל | L11: TASE | M11: 125 מניות בארץ - מניות כללי-ת"א | N11: לא | O11: ILS | P11: 9411 | Q11: 1 | R11: 10840 | T11: 1020.152 | U11: 0.000509 | V11: 0.046378942 | W11: 0.030078981
A12: 14076 | B12: 14077 | C12: מור ניהול קרנות נאמנות בע"מ | D12: 514884485 | E12: ח.פ. | F12: מור סל )4A( ת"א35- | G12: IL0011943805 | H12: ISIN | I12: עוקב אחר מדדי מניות בישראל | J12: ישראל | K12: ישראל | L12: TASE | M12: 35 מניות בארץ - מניות כללי-ת"א | N12: לא | O12: ILS | P12: 2260 | Q12: 1 | R12: 11460 | T12: 258.996 | U12: 0.000251 | V12: 0.011774673 | W12: 0.0076364431
A13: 14076 | B13: 14077 | C13: מור ניהול קרנות נאמנות בע"מ | D13: 514884485 | E13: ח.פ. | F13: מור סל S&P 500 ממ | G13: IL0011658288 | H13: ISIN | I13: עוקב אחר מדדי מניות בחו"ל | J13: ישראל | K13: ארה"ב | L13: TASE | M13: S&P 500 - מניות בחו"ל - מניות גיאוגרפי - מנוטרלת מט"ח-ארה"ב | N13: לא | O13: ILS | P13: 12590 | Q13: 1 | R13: 11540 | T13: 1452.886 | U13: 0.000933 | V13: 0.066052206 | W13: 0.042838041
... A19: 14076 | B19: 14077 | C19: State Street Corp | D19: 07F5H7W3ET8ZLWNMFP29 | E19: LEI | F19: Amex tech sel indx | G19: US81369Y8030 | H19: ISIN | I19: עוקב אחר מדדי מניות בחו"ל | J19: חו"ל | K19: ארה"ב | L19: NYSE | M19: Technology מניות בחו"ל - מניות לפי ענפים בחו"ל - חשופת מט"ח-ארה"ב- מניות | N19: לא | O19: USD | P19: 1994 | Q19: 2.978 | R19: 19052 | T19: 1131.333 | U19: 7e-06 | V19: 0.051433515 | W19: 0.033357115
A20: 14076 | B20: 14077 | C20: First trust | D20: 549300ZLB3EUU3H8NE60 | E20: LEI | F20: FIRST TR NCESGII | G20: US33737A1088 | H20: ISIN | I20: עוקב אחר מדדי מניות בחו"ל | J20: חו"ל | K20: גלובלי | L20: NASDAQ | M20: מניות בחו"ל - מניות בחו"ל משולבת | N20: לא | O20: USD | P20: 190 | Q20: 2.978 | R20: 19175 | S20: 0.144 | T20: 108.923 | U20: 1.7e-05 | V20: 0.0049519617 | W20: 0.003211586
A21: 14076 | B21: 14077 | C21: BlackRock Asset Managment | D21: 549300LRIF3NWCU26A80 | E21: LEI | F21: ISH CORE ERSTX50 | G21: DE0005933956 | H21: ISIN | I21: עוקב אחר מדדי מניות בחו"ל | J21: חו"ל | K21: אירופה | L21: FWB | M21: Equity Funds | N21: לא | O21: EUR | P21: 2198 | Q21: 3.3945 | R21: 6442 | T21: 480.645 | U21: 1.5e-05 | V21: 0.021851437 | W21: 0.014171711
A22: 14076 | B22: 14077 | C22: BlackRock Asset Managment | D22: 549300LRIF3NWCU26A80 | E22: LEI | F22: ISH S&P US BANKS | G22: IE00BD3V0B10 | H22: ISIN | I22: עוקב אחר מדדי מניות בחו"ל | J22: חו"ל | K22: ארה"ב | L22: NYSE | M22: Regional Banks מניות בחו"ל - מניות לפי ענפים בחו"ל - חשופת מט"ח-ארה"ב- מניות | N22: לא | O22: USD | P22: 2160 | Q22: 2.978 | R22: 852.7 | T22: 54.85 | U22: 0 | V22: 0.0024936213 | W22: 0.0016172336
A23: 14076 | B23: 14077 | C23: BlackRock Asset Managment | D23: 549300LRIF3NWCU26A80 | E23: LEI | F23: Ishares core s&p 500 etf | G23: US4642872000 | H23: ISIN | I23: עוקב אחר מדדי מניות בחו"ל | J23: חו"ל | K23: ארה"ב | L23: NYSE | M23: S&P 500 - מניות בחו"ל - מניות גיאוגרפי - חשופת מט"ח-ארה"ב | N23: לא | O23: USD | P23: 298 | Q23: 2.978 | R23: 74889 | T23: 664.598 | U23: 0 | V23: 0.030214456 | W23: 0.019595532
A24: 14076 | B24: 14077 | C24: BlackRock Asset Managment | D24: 549300LRIF3NWCU26A80 | E24: LEI | F24: ISHARES EXPANDED | G24: US4642875151 | H24: ISIN | I24: עוקב אחר מדדי מניות בחו"ל | J24: חו"ל | K24: ארה"ב | L24: NYSE | M24: מניות בחו"ל - מניות בחו"ל משולבת | N24: לא | O24: USD | P24: 560 | Q24: 2.978 | R24: 9060 | T24: 151.092 | U24: 3.7e-05 | V24: 0.0068690504 | W24: 0.0044549105
